BEGIN:VCALENDAR
VERSION:2.0
PRODID:-//Svaskalver - ECPv4.4.5//NONSGML v1.0//EN
CALSCALE:GREGORIAN
METHOD:PUBLISH
X-WR-CALNAME:Svaskalver
X-ORIGINAL-URL:http://svaskalver.ru
X-WR-CALDESC:Events for Svaskalver
BEGIN:VEVENT
DTSTART;TZID=Europe/Moscow:20170609T180000
DTEND;TZID=Europe/Moscow:20170609T230000
DTSTAMP:20260424T201006
CREATED:20170517T141138Z
LAST-MODIFIED:20170517T141138Z
UID:903-1497031200-1497049200@svaskalver.ru
SUMMARY:Закрытие фолк-сезона
DESCRIPTION:
URL:http://svaskalver.ru/shows/zakrytie-folk-sezona/
LOCATION:Лиговский 113\, Санкт-Петербург\, Российская Федерация
END:VEVENT
END:VCALENDAR