BEGIN:VCALENDAR
VERSION:2.0
PRODID:-//Svaskalver - ECPv4.4.5//NONSGML v1.0//EN
CALSCALE:GREGORIAN
METHOD:PUBLISH
X-WR-CALNAME:Svaskalver
X-ORIGINAL-URL:http://svaskalver.ru
X-WR-CALDESC:Events for Svaskalver
BEGIN:VEVENT
DTSTART;TZID=Europe/Moscow:20170527T170000
DTEND;TZID=Europe/Moscow:20170527T220000
DTSTAMP:20260424T212804
CREATED:20170430T224531Z
LAST-MODIFIED:20170430T224531Z
UID:879-1495904400-1495922400@svaskalver.ru
SUMMARY:Grimner tour Ostrava
DESCRIPTION:\n\nТретий концерт чешского мини-тура с группами Grimner\, Midvinterblot\, Bucovina и Warbell.\n
URL:http://svaskalver.ru/shows/grimner-tour-ostrava/
LOCATION:Havlíčkovo nábřeží 28\, Ostrava\, 70200\, Чешская республика
END:VEVENT
END:VCALENDAR