BEGIN:VCALENDAR
VERSION:2.0
PRODID:-//Svaskalver - ECPv4.4.5//NONSGML v1.0//EN
CALSCALE:GREGORIAN
METHOD:PUBLISH
X-WR-CALNAME:Svaskalver
X-ORIGINAL-URL:http://svaskalver.ru
X-WR-CALDESC:Events for Svaskalver
BEGIN:VEVENT
DTSTART;TZID=Europe/Moscow:20181229T180000
DTEND;TZID=Europe/Moscow:20181229T230000
DTSTAMP:20260420T055813
CREATED:20181220T185127Z
LAST-MODIFIED:20181220T185127Z
UID:1030-1546106400-1546124400@svaskalver.ru
SUMMARY:Folk Metal Ёлка
DESCRIPTION:Folk Metal Ёлка — в Петербурге! Не пропустите мощнейший новогодний угар. Специально для вас в этот вечер выступят: Buttefly temple\, Icewind Tales\, Svaskalver\, Grimslade. Будет жарко.
URL:http://svaskalver.ru/shows/folk-metal-yolka/
LOCATION:наб. Канала Грибоедова\, д.7\, Санкт-Петербург\, Российская Федерация
END:VEVENT
END:VCALENDAR