BEGIN:VCALENDAR
VERSION:2.0
PRODID:-//Svaskalver - ECPv4.4.5//NONSGML v1.0//EN
CALSCALE:GREGORIAN
METHOD:PUBLISH
X-WR-CALNAME:Svaskalver
X-ORIGINAL-URL:http://svaskalver.ru
X-WR-CALDESC:Events for Svaskalver
BEGIN:VEVENT
DTSTART;TZID=UTC+2:20170525T170000
DTEND;TZID=UTC+2:20170525T220000
DTSTAMP:20260425T012757
CREATED:20170430T223722Z
LAST-MODIFIED:20170430T224952Z
UID:877-1495731600-1495749600@svaskalver.ru
SUMMARY:Grimner tour České Budějovice
DESCRIPTION:\n\nFirst day of our Czech Republic mini tour with Grimner\, Midvinterblot\, Bucovina and Warbell.
URL:http://svaskalver.ru/en/shows/grimner-tour-ceske-budejovice/
LOCATION:37001 Ceske Budejovice\, Ceske Budejovice\, Чешская республика
END:VEVENT
END:VCALENDAR